BEGIN:VCALENDAR
VERSION:2.0
PRODID:-//The Gallows Fellows - ECPv6.15.12.2//NONSGML v1.0//EN
CALSCALE:GREGORIAN
METHOD:PUBLISH
X-ORIGINAL-URL:https://gallowsfellows.at
X-WR-CALDESC:Veranstaltungen für The Gallows Fellows
REFRESH-INTERVAL;VALUE=DURATION:PT1H
X-Robots-Tag:noindex
X-PUBLISHED-TTL:PT1H
BEGIN:VTIMEZONE
TZID:Europe/Vienna
BEGIN:DAYLIGHT
TZOFFSETFROM:+0100
TZOFFSETTO:+0200
TZNAME:CEST
DTSTART:20220327T010000
END:DAYLIGHT
BEGIN:STANDARD
TZOFFSETFROM:+0200
TZOFFSETTO:+0100
TZNAME:CET
DTSTART:20221030T010000
END:STANDARD
BEGIN:DAYLIGHT
TZOFFSETFROM:+0100
TZOFFSETTO:+0200
TZNAME:CEST
DTSTART:20230326T010000
END:DAYLIGHT
BEGIN:STANDARD
TZOFFSETFROM:+0200
TZOFFSETTO:+0100
TZNAME:CET
DTSTART:20231029T010000
END:STANDARD
BEGIN:DAYLIGHT
TZOFFSETFROM:+0100
TZOFFSETTO:+0200
TZNAME:CEST
DTSTART:20240331T010000
END:DAYLIGHT
BEGIN:STANDARD
TZOFFSETFROM:+0200
TZOFFSETTO:+0100
TZNAME:CET
DTSTART:20241027T010000
END:STANDARD
END:VTIMEZONE
BEGIN:VEVENT
DTSTART;TZID=Europe/Vienna:20230628T163000
DTEND;TZID=Europe/Vienna:20230628T180000
DTSTAMP:20260426T052158
CREATED:20230601T133205Z
LAST-MODIFIED:20230615T092930Z
UID:30312-1687969800-1687975200@gallowsfellows.at
SUMMARY:The Gallows Fellows @ Stadt.Sommer.STP23
DESCRIPTION:Beim Stadt.Sommer.STP23 werden drei Bands für Stimmung am Rathausplatz in St. Pölten sorgen. Den Anfang machen „The Gallows Fellows“\, gefolgt von „Akustixxx“ und „The Cube“. Gegen 21 30 wird eine gemeinsame Jamsession den Abend musikalisch beschließen.
URL:https://gallowsfellows.at/event/the-gallows-fellows-stadt-sommer-stp23/
LOCATION:Rathausplatz St. Pölten\, 3100
ATTACH;FMTTYPE=image/jpeg:https://gallowsfellows.at/wp-content/uploads/2023/06/BandFreiraum.jpg
END:VEVENT
END:VCALENDAR