BEGIN:VCALENDAR
VERSION:2.0
PRODID:-//The Gallows Fellows - ECPv6.15.12.2//NONSGML v1.0//EN
CALSCALE:GREGORIAN
METHOD:PUBLISH
X-ORIGINAL-URL:https://gallowsfellows.at
X-WR-CALDESC:Veranstaltungen für The Gallows Fellows
REFRESH-INTERVAL;VALUE=DURATION:PT1H
X-Robots-Tag:noindex
X-PUBLISHED-TTL:PT1H
BEGIN:VTIMEZONE
TZID:Europe/Vienna
BEGIN:DAYLIGHT
TZOFFSETFROM:+0100
TZOFFSETTO:+0200
TZNAME:CEST
DTSTART:20240331T010000
END:DAYLIGHT
BEGIN:STANDARD
TZOFFSETFROM:+0200
TZOFFSETTO:+0100
TZNAME:CET
DTSTART:20241027T010000
END:STANDARD
BEGIN:DAYLIGHT
TZOFFSETFROM:+0100
TZOFFSETTO:+0200
TZNAME:CEST
DTSTART:20250330T010000
END:DAYLIGHT
BEGIN:STANDARD
TZOFFSETFROM:+0200
TZOFFSETTO:+0100
TZNAME:CET
DTSTART:20251026T010000
END:STANDARD
BEGIN:DAYLIGHT
TZOFFSETFROM:+0100
TZOFFSETTO:+0200
TZNAME:CEST
DTSTART:20260329T010000
END:DAYLIGHT
BEGIN:STANDARD
TZOFFSETFROM:+0200
TZOFFSETTO:+0100
TZNAME:CET
DTSTART:20261025T010000
END:STANDARD
END:VTIMEZONE
BEGIN:VEVENT
DTSTART;TZID=Europe/Vienna:20250317T190000
DTEND;TZID=Europe/Vienna:20250317T220000
DTSTAMP:20260425T005019
CREATED:20241224T132706Z
LAST-MODIFIED:20250125T174700Z
UID:41870-1742238000-1742248800@gallowsfellows.at
SUMMARY:The Gallows Fellows go Irish!
DESCRIPTION:St. Patrick´s Day Celebration im Rathaus St. Pölten! \nWie mittlerweile bereits zur Tradition geworden hat uns St. Pölten´s Bürgermeister\, Mag. Matthias Stadler\, wieder eingeladen\, in seinem „Büro“ für Stimmung zu sorgen. Daher werden wir wieder anlässlich des St. Patrick´s Days\, dem Ehrentag für Irlands Nationalheiligen\, das St. Pöltner Rathaus erklingen lassen. Wir werden in erster Linie irische Folksongs – von stimmungsvollen Balladen bis zu ausgelassenen Pubsongs – zum Besten geben. Natürlich gespickt mit einigen eigenen Nummern im Bluegrassstil.
URL:https://gallowsfellows.at/event/the-gallows-fellows-go-irish-4/
LOCATION:Rathaus St. Pölten\, Rathausplatz 1\, St. Pölten\, Lower Austria\, 3100\, Österreich
ATTACH;FMTTYPE=image/jpeg:https://gallowsfellows.at/wp-content/uploads/2024/04/Gallos-Fallos-Konzert-5-002.jpg
END:VEVENT
END:VCALENDAR