BEGIN:VCALENDAR
VERSION:2.0
PRODID:-//The Gallows Fellows - ECPv6.15.12.2//NONSGML v1.0//EN
CALSCALE:GREGORIAN
METHOD:PUBLISH
X-ORIGINAL-URL:https://gallowsfellows.at
X-WR-CALDESC:Veranstaltungen für The Gallows Fellows
REFRESH-INTERVAL;VALUE=DURATION:PT1H
X-Robots-Tag:noindex
X-PUBLISHED-TTL:PT1H
BEGIN:VTIMEZONE
TZID:Europe/Vienna
BEGIN:DAYLIGHT
TZOFFSETFROM:+0100
TZOFFSETTO:+0200
TZNAME:CEST
DTSTART:20240331T010000
END:DAYLIGHT
BEGIN:STANDARD
TZOFFSETFROM:+0200
TZOFFSETTO:+0100
TZNAME:CET
DTSTART:20241027T010000
END:STANDARD
BEGIN:DAYLIGHT
TZOFFSETFROM:+0100
TZOFFSETTO:+0200
TZNAME:CEST
DTSTART:20250330T010000
END:DAYLIGHT
BEGIN:STANDARD
TZOFFSETFROM:+0200
TZOFFSETTO:+0100
TZNAME:CET
DTSTART:20251026T010000
END:STANDARD
BEGIN:DAYLIGHT
TZOFFSETFROM:+0100
TZOFFSETTO:+0200
TZNAME:CEST
DTSTART:20260329T010000
END:DAYLIGHT
BEGIN:STANDARD
TZOFFSETFROM:+0200
TZOFFSETTO:+0100
TZNAME:CET
DTSTART:20261025T010000
END:STANDARD
END:VTIMEZONE
BEGIN:VEVENT
DTSTART;TZID=Europe/Vienna:20250321T200000
DTEND;TZID=Europe/Vienna:20250321T230000
DTSTAMP:20260425T005031
CREATED:20250120T130350Z
LAST-MODIFIED:20250212T125543Z
UID:42402-1742587200-1742598000@gallowsfellows.at
SUMMARY:St. Patrick´s Day Celebration
DESCRIPTION:Als Gallows Fellows Trio mit Gitarre\, Fiddle und Banjo zelebrieren wir den Geburtstag de irischen Nationalheiligen bei Martin Aschauer im Highlander Roadhouse. Mit Pubsongs und Balladen sorgen wir für Stimmung
URL:https://gallowsfellows.at/event/st-patricks-day-celebration-2/
LOCATION:Highlander Roadhouse\, Gölsentalstraße 116\, Wiesenfeld\, 3116
ATTACH;FMTTYPE=image/jpeg:https://gallowsfellows.at/wp-content/uploads/2025/01/TrioBob1-e1739364863752.jpg
END:VEVENT
END:VCALENDAR