BEGIN:VCALENDAR
VERSION:2.0
PRODID:-//The Gallows Fellows - ECPv6.15.12.2//NONSGML v1.0//EN
CALSCALE:GREGORIAN
METHOD:PUBLISH
X-WR-CALNAME:The Gallows Fellows
X-ORIGINAL-URL:https://gallowsfellows.at
X-WR-CALDESC:Veranstaltungen für The Gallows Fellows
REFRESH-INTERVAL;VALUE=DURATION:PT1H
X-Robots-Tag:noindex
X-PUBLISHED-TTL:PT1H
BEGIN:VTIMEZONE
TZID:Europe/Vienna
BEGIN:DAYLIGHT
TZOFFSETFROM:+0100
TZOFFSETTO:+0200
TZNAME:CEST
DTSTART:20180325T010000
END:DAYLIGHT
BEGIN:STANDARD
TZOFFSETFROM:+0200
TZOFFSETTO:+0100
TZNAME:CET
DTSTART:20181028T010000
END:STANDARD
BEGIN:DAYLIGHT
TZOFFSETFROM:+0100
TZOFFSETTO:+0200
TZNAME:CEST
DTSTART:20190331T010000
END:DAYLIGHT
BEGIN:STANDARD
TZOFFSETFROM:+0200
TZOFFSETTO:+0100
TZNAME:CET
DTSTART:20191027T010000
END:STANDARD
BEGIN:DAYLIGHT
TZOFFSETFROM:+0100
TZOFFSETTO:+0200
TZNAME:CEST
DTSTART:20200329T010000
END:DAYLIGHT
BEGIN:STANDARD
TZOFFSETFROM:+0200
TZOFFSETTO:+0100
TZNAME:CET
DTSTART:20201025T010000
END:STANDARD
BEGIN:DAYLIGHT
TZOFFSETFROM:+0100
TZOFFSETTO:+0200
TZNAME:CEST
DTSTART:20210328T010000
END:DAYLIGHT
BEGIN:STANDARD
TZOFFSETFROM:+0200
TZOFFSETTO:+0100
TZNAME:CET
DTSTART:20211031T010000
END:STANDARD
BEGIN:DAYLIGHT
TZOFFSETFROM:+0100
TZOFFSETTO:+0200
TZNAME:CEST
DTSTART:20220327T010000
END:DAYLIGHT
BEGIN:STANDARD
TZOFFSETFROM:+0200
TZOFFSETTO:+0100
TZNAME:CET
DTSTART:20221030T010000
END:STANDARD
BEGIN:DAYLIGHT
TZOFFSETFROM:+0100
TZOFFSETTO:+0200
TZNAME:CEST
DTSTART:20230326T010000
END:DAYLIGHT
BEGIN:STANDARD
TZOFFSETFROM:+0200
TZOFFSETTO:+0100
TZNAME:CET
DTSTART:20231029T010000
END:STANDARD
BEGIN:DAYLIGHT
TZOFFSETFROM:+0100
TZOFFSETTO:+0200
TZNAME:CEST
DTSTART:20240331T010000
END:DAYLIGHT
BEGIN:STANDARD
TZOFFSETFROM:+0200
TZOFFSETTO:+0100
TZNAME:CET
DTSTART:20241027T010000
END:STANDARD
BEGIN:DAYLIGHT
TZOFFSETFROM:+0100
TZOFFSETTO:+0200
TZNAME:CEST
DTSTART:20250330T010000
END:DAYLIGHT
BEGIN:STANDARD
TZOFFSETFROM:+0200
TZOFFSETTO:+0100
TZNAME:CET
DTSTART:20251026T010000
END:STANDARD
BEGIN:DAYLIGHT
TZOFFSETFROM:+0100
TZOFFSETTO:+0200
TZNAME:CEST
DTSTART:20260329T010000
END:DAYLIGHT
BEGIN:STANDARD
TZOFFSETFROM:+0200
TZOFFSETTO:+0100
TZNAME:CET
DTSTART:20261025T010000
END:STANDARD
BEGIN:DAYLIGHT
TZOFFSETFROM:+0100
TZOFFSETTO:+0200
TZNAME:CEST
DTSTART:20270328T010000
END:DAYLIGHT
BEGIN:STANDARD
TZOFFSETFROM:+0200
TZOFFSETTO:+0100
TZNAME:CET
DTSTART:20271031T010000
END:STANDARD
END:VTIMEZONE
BEGIN:VEVENT
DTSTART;TZID=Europe/Vienna:20260418T100000
DTEND;TZID=Europe/Vienna:20260418T133000
DTSTAMP:20260424T023952
CREATED:20260113T162810Z
LAST-MODIFIED:20260113T162810Z
UID:54559-1776506400-1776519000@gallowsfellows.at
SUMMARY:Season Opening bei Harley St. Pölten
DESCRIPTION:Das Frühjahr ist voll im Aufwind und die Biker warten schon gierig auf die neue Saison. Auch meine Softtail will schon an die frische Luft. Harley St. Pölten eröffnet die Saison mit einem traditionellen Fest und wir werden dazu die musikalische Bgeleitung beisteuern. Natürlich darf da unser Hit – Harley Riding – nicht fehlen. \nhttps://www.youtube.com/watch?v=N2Cs4Zfb9tY \n  \n 
URL:https://gallowsfellows.at/event/season-opening-bei-harley-st-poelten/
LOCATION:Harley Davidson St. Pölten\, Wiener Straße 211\, St. Pölten\, 3100\, Österreich
ATTACH;FMTTYPE=image/jpeg:https://gallowsfellows.at/wp-content/uploads/2011/02/P1110780.jpg
END:VEVENT
BEGIN:VEVENT
DTSTART;TZID=Europe/Vienna:20260317T190000
DTEND;TZID=Europe/Vienna:20260317T213000
DTSTAMP:20260424T023952
CREATED:20251218T175215Z
LAST-MODIFIED:20251218T175215Z
UID:53988-1773774000-1773783000@gallowsfellows.at
SUMMARY:Paddy´s Day @ Bürgermeister
DESCRIPTION:Wie schon seit mehr als einem Jahrzehnt eröffnen wir unser musikalisches Jahr mit Irish Folk anlässlich des St. Patrick´s Day. Und am Feiertag des irischen Nationalheiligen sind wir wieder im St. Pöltner Rathaus geladen. Es gibt was zum Mitsingen\, Mitschunkeln\, Mitstampfen – und auch was zum Drinken! Slainte! \n  \nPS: Da die letzten Konzerte immer ausverkauft waren\, bitte rechtzeitig Tickets sichern.
URL:https://gallowsfellows.at/event/paddys-day-buergermeister/
LOCATION:Rathaus St. Pölten\, Rathausplatz 1\, St. Pölten\, Lower Austria\, 3100\, Österreich
ATTACH;FMTTYPE=image/jpeg:https://gallowsfellows.at/wp-content/uploads/2025/03/St-Particks-Day-Konzert-4-002.jpg
END:VEVENT
BEGIN:VEVENT
DTSTART;TZID=Europe/Vienna:20260314T190000
DTEND;TZID=Europe/Vienna:20260314T223000
DTSTAMP:20260424T023952
CREATED:20251218T175743Z
LAST-MODIFIED:20260101T153247Z
UID:53990-1773514800-1773527400@gallowsfellows.at
SUMMARY:St. Patricks Day beim Highlander
DESCRIPTION:Start des musikalischen Jahrs im Highlander Roadhouse. Mit „kleiner“ Besetzung bringen wir stimmungsvolle Balladen und Pubhits zum Besten. Und das im stilvollen Ambiente mit exzellentem Essen und grünem Bier! Die perfekte Location für einen schwungvollen Abend voll mit irischer Tradition!
URL:https://gallowsfellows.at/event/st-patricks-day-beim-highlander-2/
LOCATION:Highlander Roadhouse\, Gölsentalstraße 116\, Wiesenfeld\, 3116
ATTACH;FMTTYPE=image/jpeg:https://gallowsfellows.at/wp-content/uploads/2025/12/TrioBob3.jpg
END:VEVENT
BEGIN:VEVENT
DTSTART;TZID=Europe/Vienna:20250823T183000
DTEND;TZID=Europe/Vienna:20250823T213000
DTSTAMP:20260424T023952
CREATED:20250120T131141Z
LAST-MODIFIED:20250807T061100Z
UID:42404-1755973800-1755984600@gallowsfellows.at
SUMMARY:The Gallows Fellows play Country Music
DESCRIPTION:Im Zuge der 850 Jahr Feiern bereichern The Gallows Fellows mit einem Hauch von Country den Eventreigen. An der idyllischen Freizeitanlage „Teichzeit“ werden wir mit einer Auswahl aus Bluegrass und Countrymusic und eigenen Kompositionen unseren Beitrag leisten. Natürlich wird auch ein Schuss Irish Folk beigemischt. Erstmals wird es auch dem Anlass entsprechend einen Song in Waldviertler Mundart geben – eine Hommage an „Exnboch“. Und bei der Gelegenheit werden wir auch unsere „Rhythmsection“ erweitern. \nBereits um 17 Uhr wird es einen Line Dance Workshop und in unseren Spielpausen wird es auch Line Dance Musik aus der Dose geben. \nEin Open Air Spektakel der Extraklasse im Waldviertel!
URL:https://gallowsfellows.at/event/the-gallows-fellows-play-country-music-5/
LOCATION:Teichzeit\, Echsenbach\, 3903\, Austria
ATTACH;FMTTYPE=image/jpeg:https://gallowsfellows.at/wp-content/uploads/2025/08/PlakatEbach.jpg
END:VEVENT
BEGIN:VEVENT
DTSTART;TZID=Europe/Vienna:20250809T200000
DTEND;TZID=Europe/Vienna:20250809T230000
DTSTAMP:20260424T023952
CREATED:20250326T171215Z
LAST-MODIFIED:20250703T083852Z
UID:43811-1754769600-1754780400@gallowsfellows.at
SUMMARY:Irish Summer Night (Jamsession)
DESCRIPTION:Norbert\, „The Irish“\, veranstaltet auf seinem Terrassencamping in Traisen eine Jamsession. Verschiedenste Musiker aus der irish Community werden bei Lagerfeuer ihre Instrumente erklingen lassen – Spontan und vielen Überraschungen
URL:https://gallowsfellows.at/event/irish-summer-night/
LOCATION:Terrassencamp Traisen\, Kulmhof Weg 1\, Traisen\, NÖ\, 3160
ATTACH;FMTTYPE=image/jpeg:https://gallowsfellows.at/wp-content/uploads/2024/02/GFHighlander.jpg
END:VEVENT
BEGIN:VEVENT
DTSTART;TZID=Europe/Vienna:20250322T200000
DTEND;TZID=Europe/Vienna:20250322T230000
DTSTAMP:20260424T023952
CREATED:20241220T102949Z
LAST-MODIFIED:20241220T102949Z
UID:41820-1742673600-1742684400@gallowsfellows.at
SUMMARY:A Blend of Bluegrass & Irish Folk
DESCRIPTION:Erstmals spielen wir Rathauskeller in Pöchlarn. wir bringen eine Mischung aus Bluegrass mit eigenen Songs und Hits des Irish Folk.
URL:https://gallowsfellows.at/event/a-blend-of-bluegrass-irish-folk/
LOCATION:Rathauskeller Pöchlarn\, Regensburgerstraße 11\, Pöchlarn\, 3380
ATTACH;FMTTYPE=image/jpeg:https://gallowsfellows.at/wp-content/uploads/2023/03/GFFreiraum.jpg
END:VEVENT
BEGIN:VEVENT
DTSTART;TZID=Europe/Vienna:20250321T200000
DTEND;TZID=Europe/Vienna:20250321T230000
DTSTAMP:20260424T023952
CREATED:20250120T130350Z
LAST-MODIFIED:20250212T125543Z
UID:42402-1742587200-1742598000@gallowsfellows.at
SUMMARY:St. Patrick´s Day Celebration
DESCRIPTION:Als Gallows Fellows Trio mit Gitarre\, Fiddle und Banjo zelebrieren wir den Geburtstag de irischen Nationalheiligen bei Martin Aschauer im Highlander Roadhouse. Mit Pubsongs und Balladen sorgen wir für Stimmung
URL:https://gallowsfellows.at/event/st-patricks-day-celebration-2/
LOCATION:Highlander Roadhouse\, Gölsentalstraße 116\, Wiesenfeld\, 3116
ATTACH;FMTTYPE=image/jpeg:https://gallowsfellows.at/wp-content/uploads/2025/01/TrioBob1-e1739364863752.jpg
END:VEVENT
BEGIN:VEVENT
DTSTART;TZID=Europe/Vienna:20250317T190000
DTEND;TZID=Europe/Vienna:20250317T220000
DTSTAMP:20260424T023952
CREATED:20241224T132706Z
LAST-MODIFIED:20250125T174700Z
UID:41870-1742238000-1742248800@gallowsfellows.at
SUMMARY:The Gallows Fellows go Irish!
DESCRIPTION:St. Patrick´s Day Celebration im Rathaus St. Pölten! \nWie mittlerweile bereits zur Tradition geworden hat uns St. Pölten´s Bürgermeister\, Mag. Matthias Stadler\, wieder eingeladen\, in seinem „Büro“ für Stimmung zu sorgen. Daher werden wir wieder anlässlich des St. Patrick´s Days\, dem Ehrentag für Irlands Nationalheiligen\, das St. Pöltner Rathaus erklingen lassen. Wir werden in erster Linie irische Folksongs – von stimmungsvollen Balladen bis zu ausgelassenen Pubsongs – zum Besten geben. Natürlich gespickt mit einigen eigenen Nummern im Bluegrassstil.
URL:https://gallowsfellows.at/event/the-gallows-fellows-go-irish-4/
LOCATION:Rathaus St. Pölten\, Rathausplatz 1\, St. Pölten\, Lower Austria\, 3100\, Österreich
ATTACH;FMTTYPE=image/jpeg:https://gallowsfellows.at/wp-content/uploads/2024/04/Gallos-Fallos-Konzert-5-002.jpg
END:VEVENT
BEGIN:VEVENT
DTSTART;TZID=Europe/Vienna:20240830T200000
DTEND;TZID=Europe/Vienna:20240830T230000
DTSTAMP:20260424T023952
CREATED:20240208T111751Z
LAST-MODIFIED:20240821T072828Z
UID:35303-1725048000-1725058800@gallowsfellows.at
SUMMARY:The Gallows Fellows play Country Music!
DESCRIPTION:Premiere beim Fest der Freiwilligen Feuerwehr St. Pölten Spratzern!\n 
URL:https://gallowsfellows.at/event/the-gallows-fellows-play-country-music-4/
LOCATION:FF St. Pölten Spratzern
END:VEVENT
BEGIN:VEVENT
DTSTART;TZID=Europe/Vienna:20240316T200000
DTEND;TZID=Europe/Vienna:20240316T223000
DTSTAMP:20260424T023952
CREATED:20240108T155212Z
LAST-MODIFIED:20240108T155212Z
UID:35157-1710619200-1710628200@gallowsfellows.at
SUMMARY:St. Patricks Day Celebration mit dem Gallows Fellows TRIO!
DESCRIPTION:
URL:https://gallowsfellows.at/event/st-patricks-day-celebration-mit-dem-gallows-fellows-trio-2/
LOCATION:Highlander Roadhouse\, Gölsentalstraße 116\, Wiesenfeld\, 3116
ATTACH;FMTTYPE=image/jpeg:https://gallowsfellows.at/wp-content/uploads/2023/02/Trio1-2-scaled.jpg
END:VEVENT
BEGIN:VEVENT
DTSTART;TZID=Europe/Vienna:20240315T200000
DTEND;TZID=Europe/Vienna:20240315T223000
DTSTAMP:20260424T023952
CREATED:20240108T154929Z
LAST-MODIFIED:20240208T111057Z
UID:35155-1710532800-1710541800@gallowsfellows.at
SUMMARY:The Gallows Fellows go Irish!
DESCRIPTION:Ein besonderes Konzerthighlight im stimmungsvollen Ambiente des Bürgermeisterzimmers im Rathaus. Bgm. Matthias Stadler hat uns wieder eingeladen\, sein Büro mit Irischen Klängen und ein wenig Bluegrassmusic zu bespielen. Wir sind schon fleißig am Vorbereiten und so komme auch neue Songs ins Repertoire\, von den Dubliners über traditionelle Jigs bis zu den Rolling Stones (!?!). In der Pause ist wiedr für passende Bierbegleitung gesorgt. \nTickets unter www.closetofan.com in der Buchhandlung Schubert\, kultur@st-poelten.gv.at oder 02742/333-2601
URL:https://gallowsfellows.at/event/the-gallows-fellows-go-irish-3/
LOCATION:Rathaus St. Pölten\, Rathausplatz 1\, St. Pölten\, Lower Austria\, 3100\, Österreich
ATTACH;FMTTYPE=image/jpeg:https://gallowsfellows.at/wp-content/uploads/2023/03/Gallows-Fallows-Konzert.jpg
END:VEVENT
BEGIN:VEVENT
DTSTART;TZID=Europe/Vienna:20230930T200000
DTEND;TZID=Europe/Vienna:20230930T223000
DTSTAMP:20260424T023952
CREATED:20230302T093723Z
LAST-MODIFIED:20230803T064734Z
UID:28775-1696104000-1696113000@gallowsfellows.at
SUMMARY:The Gallows Fellows Wild West Show
DESCRIPTION:nach gelungener Premiere im Vorjahr präsentieren wir unseren szenischen Abend dem St. Pöltner Publikum! \nThe Gallows Fellows Wild West Show
URL:https://gallowsfellows.at/event/the-gallows-fellows-wild-west-show/
LOCATION:Freiraum\, Herzogenburgerstraße\, St. Pölten
ATTACH;FMTTYPE=image/jpeg:https://gallowsfellows.at/wp-content/uploads/2023/03/PlakatWWSSponsorenFreiraum23-scaled.jpg
END:VEVENT
BEGIN:VEVENT
DTSTART;TZID=Europe/Vienna:20230825T150000
DTEND;TZID=Europe/Vienna:20230825T170000
DTSTAMP:20260424T023952
CREATED:20230701T041312Z
LAST-MODIFIED:20230701T041312Z
UID:30771-1692975600-1692982800@gallowsfellows.at
SUMMARY:Harley Davidson Open House
DESCRIPTION:Es ist wieder mal Zeit\, die Harley Fangemeinde zu beschallen. Wir wurden wieder eingeladen für die musikalische Umrahmung des Open House zu sorgen. Als passionierter Harley Fahrer ist mir das natürlich Ehre und Vergnügen. Und eins wird ganz sicher mehrmals zu hören sein: Unser Hit „Harley Riding!
URL:https://gallowsfellows.at/event/harley-davidson-open-house/
LOCATION:Harley Davidson St. Pölten\, Wiener Straße 211\, St. Pölten\, 3100\, Österreich
ATTACH;FMTTYPE=image/jpeg:https://gallowsfellows.at/wp-content/uploads/2011/02/P1110780.jpg
END:VEVENT
BEGIN:VEVENT
DTSTART;VALUE=DATE:20230813
DTEND;VALUE=DATE:20230814
DTSTAMP:20260424T023952
CREATED:20230421T081836Z
LAST-MODIFIED:20230714T081103Z
UID:29679-1691884800-1691971199@gallowsfellows.at
SUMMARY:The Gallows Fellows go East!
DESCRIPTION:Bereits im Vorjahr wurden wir eingeladen\, beim Acoustic Music Festival in Abaliget in Ungarn zu spielen. Leider hat es damals nicht geklappt\, aber heuer wird´s was. Es reut uns sehr\, dass wir als Vertreter Österreichs hier dabei sein dürfen. Wir reihen uns zu einer langen  Liste österreichischer Bands\, die dieses Vergnügen schon hatten. Also wer Lust und Zeit hat das „Feiertagswochennde“ mit guter Musik und Festivalatmosphäre im schönen Ungern zu verbringen\, der hat jetzt ein passendes Event.
URL:https://gallowsfellows.at/event/the-gallows-fellows-go-east/
LOCATION:Abaliget\, Abaliget\, Ungarn
ATTACH;FMTTYPE=image/jpeg:https://gallowsfellows.at/wp-content/uploads/2023/04/Abaliget.jpg
END:VEVENT
BEGIN:VEVENT
DTSTART;TZID=Europe/Vienna:20230628T163000
DTEND;TZID=Europe/Vienna:20230628T180000
DTSTAMP:20260424T023952
CREATED:20230601T133205Z
LAST-MODIFIED:20230615T092930Z
UID:30312-1687969800-1687975200@gallowsfellows.at
SUMMARY:The Gallows Fellows @ Stadt.Sommer.STP23
DESCRIPTION:Beim Stadt.Sommer.STP23 werden drei Bands für Stimmung am Rathausplatz in St. Pölten sorgen. Den Anfang machen „The Gallows Fellows“\, gefolgt von „Akustixxx“ und „The Cube“. Gegen 21 30 wird eine gemeinsame Jamsession den Abend musikalisch beschließen.
URL:https://gallowsfellows.at/event/the-gallows-fellows-stadt-sommer-stp23/
LOCATION:Rathausplatz St. Pölten\, 3100
ATTACH;FMTTYPE=image/jpeg:https://gallowsfellows.at/wp-content/uploads/2023/06/BandFreiraum.jpg
END:VEVENT
BEGIN:VEVENT
DTSTART;TZID=Europe/Vienna:20230529T190000
DTEND;TZID=Europe/Vienna:20230529T213000
DTSTAMP:20260424T023952
CREATED:20230302T092422Z
LAST-MODIFIED:20230302T092422Z
UID:28765-1685386800-1685395800@gallowsfellows.at
SUMMARY:The Gallows Fellows am Volksfest St. Pölten
DESCRIPTION:Im Rahmen des heurigen St. Pöltner Volksfest wurden wir eingeladen unseren musikalischen Beitrag zu leisten. Im Gastrozentrum werden wir auf der Bühne für Unterhaltung mit Bluegrass und Irish Folk sorgen!
URL:https://gallowsfellows.at/event/the-gallows-fellows-am-volksfest-st-poelten/
LOCATION:VAZ St. Pölten\, St. Pölten\, 3100\, Österreich
ATTACH;FMTTYPE=image/jpeg:https://gallowsfellows.at/wp-content/uploads/2017/06/GFEgon.jpg
END:VEVENT
BEGIN:VEVENT
DTSTART;TZID=Europe/Vienna:20230318T190000
DTEND;TZID=Europe/Vienna:20230318T213000
DTSTAMP:20260424T023952
CREATED:20230209T093116Z
LAST-MODIFIED:20230227T084242Z
UID:28288-1679166000-1679175000@gallowsfellows.at
SUMMARY:St. Patrick´s Day Celebration mit dem Gallows Fellows TRIO
DESCRIPTION:Nach den legendären Konzerten im alten Pub hat uns Martin nun in seine wundervolle\, neue Location eingeladen. An die neue räumliche Situation angepasst werden wir in konzentrierter Form mit Fiddle\, Banjo und Gitarre unser Repertoire für euch aufbereiten. Dazu gibt´s wunderbaren Pubfood und die entsprechende Getränkeauswahl. Musikbeitrag € 7\,-
URL:https://gallowsfellows.at/event/st-patricks-day-celebration-mit-dem-gallows-fellows-trio/
LOCATION:Highlander Roadhouse\, Gölsentalstraße 116\, Wiesenfeld\, 3116
ATTACH;FMTTYPE=image/jpeg:https://gallowsfellows.at/wp-content/uploads/2023/02/Highl1.jpg
END:VEVENT
BEGIN:VEVENT
DTSTART;TZID=Europe/Vienna:20230317T200000
DTEND;TZID=Europe/Vienna:20230317T223000
DTSTAMP:20260424T023952
CREATED:20230209T091952Z
LAST-MODIFIED:20230302T091436Z
UID:28286-1679083200-1679092200@gallowsfellows.at
SUMMARY:The Gallows Fellows go Irish
DESCRIPTION:Wir sind in voller Besetzung zu Gast bei Bgm. Matthias Stadler\, der sein Büro wieder frei macht\, damit die St. Pöltnerinnen und St. Pöltner mit uns feiern können. In der Pause gibt´s stilecht Kilkenny Irish Beer! \nTickets gibt´s wie immer in der Buchhandlung Schubert oder kultur@st-poelten.gv.at oder 02742/333 2601 (VVK: 14 Euro\, AK: 16 Euro) \nUnd wer dem Anlass entsprechend gekleidet („Grün von Kopf bis Fuß“) kommt\, spart sich den Eintritt!
URL:https://gallowsfellows.at/event/the-gallows-fellows-go-irish-2/
LOCATION:Rathaus St. Pölten\, Rathausplatz 1\, St. Pölten\, Lower Austria\, 3100\, Österreich
ATTACH;FMTTYPE=image/jpeg:https://gallowsfellows.at/wp-content/uploads/2018/03/IMG_2421.jpg
END:VEVENT
BEGIN:VEVENT
DTSTART;TZID=Europe/Vienna:20220922T200000
DTEND;TZID=Europe/Vienna:20220922T220000
DTSTAMP:20260424T023952
CREATED:20220527T085218Z
LAST-MODIFIED:20220527T085218Z
UID:23406-1663876800-1663884000@gallowsfellows.at
SUMMARY:The Gallows Fellows Wild West Show - PREMIERE!
DESCRIPTION:The Gallows Fellows Wild West Show \nEine musikalisch\, szenische Reise von Irland durch die USA in 12 Bildern \nDas Stück handelt vom irischen Auswanderer Sean O´Malley\, der sich in weiterer Folge Jimmy nennt. Er entflieht mit seinen Eltern der großen Hungersnot aus Irland nach Amerika und kommt nach Pennsylvania. Als junger Mann schließt er sich den Nordstaatentruppen an und zieht in den US – Bürgerkrieg. Nach dessen Ende streunt er als Musiker durch die Lande. Er durchstreift die Südstaaten\, wird Cowboy und geht nach San Francisco. Nach viel Musik zieht es ihn in den Norden\, wo er bei Harley Davidson als Testfahrer tätig wird. Er besinnt sich seiner irischen Wurzeln und kehrt nach einem langen ereignisreichen Leben nach Irland zurück. \nDie Geschichte wird in Kurztexten gespickt mit historischen Details erzählt und mit einer Auswahl an passenden Songs unseres Repertoires untermalt!
URL:https://gallowsfellows.at/event/the-gallows-fellows-wild-west-show-premiere/
LOCATION:Black Ox\, Hauptstraße 6\, Murstetten\, Lower Austria\, 3142\, Austria
ATTACH;FMTTYPE=image/jpeg:https://gallowsfellows.at/wp-content/uploads/2022/05/9de46838-78d5-4974-9483-1bff139d1c33.jpg
END:VEVENT
BEGIN:VEVENT
DTSTART;TZID=Europe/Vienna:20220916T190000
DTEND;TZID=Europe/Vienna:20220916T233000
DTSTAMP:20260424T023952
CREATED:20220527T083316Z
LAST-MODIFIED:20220527T083316Z
UID:23395-1663354800-1663371000@gallowsfellows.at
SUMMARY:The Gallows Fellows @ Joe´s Country Saloon
DESCRIPTION:Nach der Neueröffnung der Serie im letzten September sind wir wieder zu Gast bei Joe Weidinger´s Western Saloon. Auch in der neuen Location in Winden am See bietet Joe seine  Gästen eine attraktive Location\, in der sich gut eine Musikabend im Country Style gut genießen lässt. \nHier seine Beschreibung: The Gallows Fellows sind sechs Musiker aus Niederösterreich\, die sich der traditionellen akustischen Country- und Folkmusik verschrieben haben. Mit der klassischen Bluegrass Besetzung wird ebendieser Stil hochgehalten und um Oldtimesongs ergänzt. Dazu gesellen sich Country Standards\, die eigens interpretiert werden. Dem Hang einiger Bandmitglieder zur Folkmusic wird mit Ausflügen in den Irish Folk begegnet. Dafür gibt es Verstärkung mit Flutes und den Uillean Pipes.
URL:https://gallowsfellows.at/event/the-gallows-fellows-joes-country-saloon/
LOCATION:Karl Wirt\, Neusiedler Str. 22\, Winden/See\, Burgenland\, 7092\, Austria
ATTACH;FMTTYPE=image/jpeg:https://gallowsfellows.at/wp-content/uploads/2022/05/GFHans.jpg
END:VEVENT
BEGIN:VEVENT
DTSTART;TZID=Europe/Vienna:20220827T190000
DTEND;TZID=Europe/Vienna:20220827T220000
DTSTAMP:20260424T023952
CREATED:20220527T081938Z
LAST-MODIFIED:20220527T081938Z
UID:23393-1661626800-1661637600@gallowsfellows.at
SUMMARY:The Gallows Fellows im Kulturcafe Renate
DESCRIPTION:Nach gelungener Premiere in einem kleinen Zeitfenster\, in dem während der Pandemie Veranstaltungen möglich waren\, geben wir nun nach zwei Jahren unser zweites Gastspiel bei Renate. Die engagierte Chefin bereitet ein attraktives Umfeld für die Gäste\, bei dem es sich in gemütlicher Atmosphäre und passender kulinarischer Umrahmung  gut unserem akustischen Ohrenschmaus lauschen lässt..
URL:https://gallowsfellows.at/event/the-gallows-fellows-im-kulturcafe-renate/
LOCATION:Kulturcafe Renate\, Hauptstraße 10a\, St. Marfarethen/Sierning\, 3231
ATTACH;FMTTYPE=image/jpeg:https://gallowsfellows.at/wp-content/uploads/2020/01/GFMayr.jpg
END:VEVENT
BEGIN:VEVENT
DTSTART;TZID=Europe/Vienna:20220812T190000
DTEND;TZID=Europe/Vienna:20220812T210000
DTSTAMP:20260424T023952
CREATED:20220527T080942Z
LAST-MODIFIED:20220527T080942Z
UID:23390-1660330800-1660338000@gallowsfellows.at
SUMMARY:The Gallows Fellows beim Stadtsommer St. Pölten
DESCRIPTION:Auch in St. Pölten gibt es nach der Pandemie wieder Altbewährtes in neuer Form. Das traditionelle „Sommerfestival“ kehrt als „Stadtsommer“ wieder zurück auf den Rathausplatz. In etwas anderem Setting wird aber wieder viel Live Musik geboten. Und wir dürfen wie schon in den vergangenen Jahren dabei sein.
URL:https://gallowsfellows.at/event/the-gallows-fellows-beim-stadtsommer-st-polten/
LOCATION:Rathausplatz St. Pölten\, 3100
ATTACH;FMTTYPE=image/jpeg:https://gallowsfellows.at/wp-content/uploads/2022/05/GFWSAM.jpg
END:VEVENT
BEGIN:VEVENT
DTSTART;TZID=Europe/Vienna:20220624T190000
DTEND;TZID=Europe/Vienna:20220624T230000
DTSTAMP:20260424T023952
CREATED:20220527T080034Z
LAST-MODIFIED:20220527T080034Z
UID:23386-1656097200-1656111600@gallowsfellows.at
SUMMARY:The Gallows Fellows @ CMC
DESCRIPTION:Nach zwei Jahren Pause ist es wieder soweit: Das traditionelle Fest des CMC findet wieder statt. Und am Freitag haben wir die Ehre. Mit einer Mischung aus Bluegrass\, Country und einem Schuss Irish Folk werden wir das Publikum unterhalten. Um auch den Line Dancern gerecht zu werden\, gibt es zwischen unseren halbstündigen Sets LD Music aus der Dose. Come and have Fun!
URL:https://gallowsfellows.at/event/the-gallows-fellows-cmc/
LOCATION:Countymusic Club Obergrafendorf\, Western Platz 1\, Obergrafendorf\, 3200
ATTACH;FMTTYPE=image/jpeg:https://gallowsfellows.at/wp-content/uploads/2022/05/CMC22.jpg
END:VEVENT
BEGIN:VEVENT
DTSTART;TZID=Europe/Vienna:20220429T200000
DTEND;TZID=Europe/Vienna:20220429T230000
DTSTAMP:20260424T023952
CREATED:20220408T071724Z
LAST-MODIFIED:20220408T071724Z
UID:22032-1651262400-1651273200@gallowsfellows.at
SUMMARY:The Gallows Fellows live @ Western Saloon Amstetten
DESCRIPTION:Nach mehrerer Verschiebungen ist es endlich soweit. The Gallows Fellows feiern ihre Premiere im Western Saloon Amstetten. Mit einem bewährten MIx aus Bluegrassmusic\, Country & Western Klassikern und einem Schuss Irish Folk wird das Publikum unterhalten.
URL:https://gallowsfellows.at/event/the-gallows-fellows-live-western-saloon-amstetten/
LOCATION:Western Saloon Amstetten\, Habersdorf 3\, Stift Ardagger\, 3321\, Österreich
ATTACH;FMTTYPE=image/jpeg:https://gallowsfellows.at/wp-content/uploads/2022/04/WesternSaloon22.jpg
END:VEVENT
BEGIN:VEVENT
DTSTART;TZID=Europe/Vienna:20200912T200000
DTEND;TZID=Europe/Vienna:20200912T220000
DTSTAMP:20260424T023952
CREATED:20200103T143839Z
LAST-MODIFIED:20200207T100209Z
UID:6102-1599940800-1599948000@gallowsfellows.at
SUMMARY:The Gallows Fellows bei Renate
DESCRIPTION:Erstmalig gastieren wir im Kulturcafe St. Margarethen. Die überaus engagierte Renate ermöglicht mit ihrem Programm viele interassante kulturelle Highlights in ihrem schmucken Cafe. Bei passnedem Wetter wird´s ein Open Air. Wir hoffen\, dass uns der Wettergott gnädig ist. Wenn nicht\, dann im überdachten Hof.
URL:https://gallowsfellows.at/event/the-gallows-fellows-bei-renate/
LOCATION:Kulturcafe Renate\, Hauptstraße 10a\, St. Margarethen/Sierning\, 3231
ATTACH;FMTTYPE=image/jpeg:https://gallowsfellows.at/wp-content/uploads/2020/01/GFMayr.jpg
END:VEVENT
BEGIN:VEVENT
DTSTART;TZID=Europe/Vienna:20200403T200000
DTEND;TZID=Europe/Vienna:20200403T230000
DTSTAMP:20260424T023952
CREATED:20191230T094747Z
LAST-MODIFIED:20191230T094747Z
UID:6029-1585944000-1585954800@gallowsfellows.at
SUMMARY:The Gallows Fellows play Country Music
DESCRIPTION:Erstmailig gastieren die Gallows Fellows im Western Saloon in Amstetten. Mit einem abwechslungsreichen Programm mit einem Schwerpunkt von Countryklassikern und Bluegrassnummern kommen wir in diese liebevoll gepflegt Location mit ausgprägtem Wetsernflair. Eintritt: freiwillige Spenden
URL:https://gallowsfellows.at/event/the-gallows-fellows-play-country-music-3/
LOCATION:Western Saloon Amstetten\, Habersdorf 3\, Stift Ardagger\, 3321\, Österreich
ATTACH;FMTTYPE=image/jpeg:https://gallowsfellows.at/wp-content/uploads/2010/05/KKP2274.jpg
END:VEVENT
BEGIN:VEVENT
DTSTART;TZID=Europe/Vienna:20200317T200000
DTEND;TZID=Europe/Vienna:20200317T220000
DTSTAMP:20260424T023952
CREATED:20200103T141003Z
LAST-MODIFIED:20200121T182941Z
UID:6089-1584475200-1584482400@gallowsfellows.at
SUMMARY:Paddy´s Day at Bürgermeister
DESCRIPTION:Im schmucken Amiente des Bürgermeisterzimmers im Rathaus St. Pölten sind wir wieder zu Gast bei BGM Matthias Stadler. Er öffnet sein Büro für die Bevölkerung und feiert mit uns den Jahrestag des irischen Nationalheiligen. Mit Guiness Bier in der Pause und einem schwungvollen Repertoire aus Pubsongs und irischen Balladen ist für Stimmung gesorgt.
URL:https://gallowsfellows.at/event/paddys-day-at-burgermeister-3/
LOCATION:Rathaus St. Pölten\, Rathausplatz 1\, St. Pölten\, Lower Austria\, 3100\, Österreich
ATTACH;FMTTYPE=image/jpeg:https://gallowsfellows.at/wp-content/uploads/2018/03/IMG_2420.jpg
END:VEVENT
BEGIN:VEVENT
DTSTART;TZID=Europe/Vienna:20200314T210000
DTEND;TZID=Europe/Vienna:20200314T235500
DTSTAMP:20260424T023952
CREATED:20200103T142639Z
LAST-MODIFIED:20200103T142901Z
UID:6093-1584219600-1584230100@gallowsfellows.at
SUMMARY:St. Patrick´s Day beim Highlander
DESCRIPTION:Der zweite Teil unseres St. Patrick´s Day Doppelschlages findet wie mittletweile zur Tradition geworden im urigen Ambiente das Pubs Highlander statt. In passender Pubatmosphäre sorgen Aschi uns sein Team für typische Speisen und Getränke und wir für die stimmungsvolle Musik. \n\n 
URL:https://gallowsfellows.at/event/st-patricks-day-beim-highlander/
LOCATION:Highlander\, Wiesenfeld
ATTACH;FMTTYPE=image/jpeg:https://gallowsfellows.at/wp-content/uploads/2020/01/HL1-e1578061434130.jpg
END:VEVENT
BEGIN:VEVENT
DTSTART;TZID=Europe/Vienna:20191116T200000
DTEND;TZID=Europe/Vienna:20191116T233000
DTSTAMP:20260424T023952
CREATED:20181223T113535Z
LAST-MODIFIED:20190122T065943Z
UID:1809-1573934400-1573947000@gallowsfellows.at
SUMMARY:5. Acoustic Country Night
DESCRIPTION:Ein kleines Jubiläum steht an. Bereits zum fünften Mal geht die Acoustic Country Night über die Bühne. Mit den „Carolina Ramblers“ und „New West Acoustic“ steht neben den „Gallows Fellows“ ein Großteil der Musiker der Premiere auf er Bühne \nY´all come!
URL:https://gallowsfellows.at/event/5-acoustic-country-night/
LOCATION:Freiraum\, Herzogenburgerstraße\, St. Pölten
ATTACH;FMTTYPE=image/jpeg:https://gallowsfellows.at/wp-content/uploads/2010/05/Band.jpg
END:VEVENT
BEGIN:VEVENT
DTSTART;TZID=Europe/Vienna:20190928T100000
DTEND;TZID=Europe/Vienna:20190928T140000
DTSTAMP:20260424T023952
CREATED:20181223T121303Z
LAST-MODIFIED:20181223T121603Z
UID:1816-1569664800-1569679200@gallowsfellows.at
SUMMARY:The Gallows Fellows at Harley Davidson StP!
DESCRIPTION:The Gallows Fellows werden das Open House von Harley St. Pölten wieder mal musikalisch umrahmen. Umgeben von jeder Menge exklusiver Bikes\, coolen Drinks und Bikern und Bikerinnen werden wir auch unseren Hit „Harley Riding“ mehrmals zum Besten geben. Ride on!
URL:https://gallowsfellows.at/event/the-gallows-fellows-at-harley-davidson-stp/
LOCATION:Harley Davidson St. Pölten\, Wiener Straße 211\, St. Pölten\, 3100\, Österreich
ATTACH;FMTTYPE=image/jpeg:https://gallowsfellows.at/wp-content/uploads/2011/02/GFHDStP.jpg
END:VEVENT
END:VCALENDAR