BEGIN:VCALENDAR
VERSION:2.0
PRODID:-//The Gallows Fellows - ECPv6.15.12.2//NONSGML v1.0//EN
CALSCALE:GREGORIAN
METHOD:PUBLISH
X-ORIGINAL-URL:https://gallowsfellows.at
X-WR-CALDESC:Veranstaltungen für The Gallows Fellows
REFRESH-INTERVAL;VALUE=DURATION:PT1H
X-Robots-Tag:noindex
X-PUBLISHED-TTL:PT1H
BEGIN:VTIMEZONE
TZID:Europe/Vienna
BEGIN:DAYLIGHT
TZOFFSETFROM:+0100
TZOFFSETTO:+0200
TZNAME:CEST
DTSTART:20250330T010000
END:DAYLIGHT
BEGIN:STANDARD
TZOFFSETFROM:+0200
TZOFFSETTO:+0100
TZNAME:CET
DTSTART:20251026T010000
END:STANDARD
BEGIN:DAYLIGHT
TZOFFSETFROM:+0100
TZOFFSETTO:+0200
TZNAME:CEST
DTSTART:20260329T010000
END:DAYLIGHT
BEGIN:STANDARD
TZOFFSETFROM:+0200
TZOFFSETTO:+0100
TZNAME:CET
DTSTART:20261025T010000
END:STANDARD
BEGIN:DAYLIGHT
TZOFFSETFROM:+0100
TZOFFSETTO:+0200
TZNAME:CEST
DTSTART:20270328T010000
END:DAYLIGHT
BEGIN:STANDARD
TZOFFSETFROM:+0200
TZOFFSETTO:+0100
TZNAME:CET
DTSTART:20271031T010000
END:STANDARD
END:VTIMEZONE
BEGIN:VEVENT
DTSTART;TZID=Europe/Vienna:20260530T190000
DTEND;TZID=Europe/Vienna:20260530T220000
DTSTAMP:20260424T011219
CREATED:20260101T153746Z
LAST-MODIFIED:20260101T153746Z
UID:54255-1780167600-1780178400@gallowsfellows.at
SUMMARY:The Gallows Fellows play Country Music
DESCRIPTION:Nach einigen Jahren Abstinenz spielen wir wieder in Niederösterreichs Süden auf. Im stimmungsvollen Ambiente der Heimstätte unseres Fiddlers geben wir uns die Ehre.
URL:https://gallowsfellows.at/event/the-gallows-fellows-play-country-music-6/
LOCATION:Wagner´s Ranch\, Thernberg\, 2831\, Österreich
ATTACH;FMTTYPE=image/jpeg:https://gallowsfellows.at/wp-content/uploads/2025/12/gallows_fellows_12-scaled.jpg
END:VEVENT
BEGIN:VEVENT
DTSTART;TZID=Europe/Vienna:20260830T170000
DTEND;TZID=Europe/Vienna:20260830T210000
DTSTAMP:20260424T011219
CREATED:20260422T062949Z
LAST-MODIFIED:20260422T063052Z
UID:56124-1788109200-1788123600@gallowsfellows.at
SUMMARY:The Gallows Fellows am Marktfest Rosenau/Sonntagberg
DESCRIPTION:Nach unserem Gastspiel beim Sechziger vom „Pfandi“ hat man uns gleich für das Marktfest engagiert. Dort herrscht an diesem Tag „Ausnahmezustand“. Die Straße ist gesperrt. Ganz Rosenau ist auf den Beinen um Schmankerl zu genießen und Spaß zu haben. Und wir werden auf der Bühne beim „Alten Brauhaus“ Country Music vom Feinsten dazu liefern.
URL:https://gallowsfellows.at/event/tha-gallows-felloows-am-marktfest-rosenau-sonntagberg/
LOCATION:Altes Brauhaus\, Waidhofner Str. 25\, Rosenau am Sonntagberg\, NÖ\, 3332\, Austria
ATTACH;FMTTYPE=image/jpeg:https://gallowsfellows.at/wp-content/uploads/2025/08/20250823_190755-scaled.jpg
END:VEVENT
BEGIN:VEVENT
DTSTART;TZID=Europe/Vienna:20261107T190000
DTEND;TZID=Europe/Vienna:20261107T220000
DTSTAMP:20260424T011219
CREATED:20251218T180623Z
LAST-MODIFIED:20260206T163732Z
UID:53993-1794078000-1794088800@gallowsfellows.at
SUMMARY:Austro Hillbilly Nacht
DESCRIPTION:Das wird ein Spaß – das erste seiner Art! Wir kombinieren amerikanische Rhythmen wie Country und Bluegrass mit österreichischen Mundarttexten. So wird diese Form der Musik für den einen oder anderen verständlicher und urtümlicher. Mit den  „Texas Schrammeln“ konnten wir eine Band gewinnen\, die diese spezielle Musikform bereits seit einigen Jahren kultiviert. Und wir\, „The Gallows Fellows“\, haben einige unserer Songs\, deren Texte zuerst im Gehirn aus dem Deutschen ins Englische und jetzt wieder ins „Woidvierlterische“ übersetzt wurden\, neu interpretiert. Ein einzigartiger Abend!
URL:https://gallowsfellows.at/event/austro-hillbilly-nacht/
LOCATION:Freiraum\, Herzogenburgerstraße\, St. Pölten
ATTACH;FMTTYPE=image/png:https://gallowsfellows.at/wp-content/uploads/2026/02/F3D29094-7520-4B30-A5F5-99D5688E724E.png
END:VEVENT
END:VCALENDAR