BEGIN:VCALENDAR
VERSION:2.0
PRODID:-//The Gallows Fellows - ECPv6.15.12.2//NONSGML v1.0//EN
CALSCALE:GREGORIAN
METHOD:PUBLISH
X-WR-CALNAME:The Gallows Fellows
X-ORIGINAL-URL:https://gallowsfellows.at
X-WR-CALDESC:Veranstaltungen für The Gallows Fellows
REFRESH-INTERVAL;VALUE=DURATION:PT1H
X-Robots-Tag:noindex
X-PUBLISHED-TTL:PT1H
BEGIN:VTIMEZONE
TZID:Europe/Vienna
BEGIN:DAYLIGHT
TZOFFSETFROM:+0100
TZOFFSETTO:+0200
TZNAME:CEST
DTSTART:20220327T010000
END:DAYLIGHT
BEGIN:STANDARD
TZOFFSETFROM:+0200
TZOFFSETTO:+0100
TZNAME:CET
DTSTART:20221030T010000
END:STANDARD
BEGIN:DAYLIGHT
TZOFFSETFROM:+0100
TZOFFSETTO:+0200
TZNAME:CEST
DTSTART:20230326T010000
END:DAYLIGHT
BEGIN:STANDARD
TZOFFSETFROM:+0200
TZOFFSETTO:+0100
TZNAME:CET
DTSTART:20231029T010000
END:STANDARD
BEGIN:DAYLIGHT
TZOFFSETFROM:+0100
TZOFFSETTO:+0200
TZNAME:CEST
DTSTART:20240331T010000
END:DAYLIGHT
BEGIN:STANDARD
TZOFFSETFROM:+0200
TZOFFSETTO:+0100
TZNAME:CET
DTSTART:20241027T010000
END:STANDARD
END:VTIMEZONE
BEGIN:VEVENT
DTSTART;VALUE=DATE:20230813
DTEND;VALUE=DATE:20230814
DTSTAMP:20260426T023647
CREATED:20230421T081836Z
LAST-MODIFIED:20230714T081103Z
UID:29679-1691884800-1691971199@gallowsfellows.at
SUMMARY:The Gallows Fellows go East!
DESCRIPTION:Bereits im Vorjahr wurden wir eingeladen\, beim Acoustic Music Festival in Abaliget in Ungarn zu spielen. Leider hat es damals nicht geklappt\, aber heuer wird´s was. Es reut uns sehr\, dass wir als Vertreter Österreichs hier dabei sein dürfen. Wir reihen uns zu einer langen  Liste österreichischer Bands\, die dieses Vergnügen schon hatten. Also wer Lust und Zeit hat das „Feiertagswochennde“ mit guter Musik und Festivalatmosphäre im schönen Ungern zu verbringen\, der hat jetzt ein passendes Event.
URL:https://gallowsfellows.at/event/the-gallows-fellows-go-east/
LOCATION:Abaliget\, Abaliget\, Ungarn
ATTACH;FMTTYPE=image/jpeg:https://gallowsfellows.at/wp-content/uploads/2023/04/Abaliget.jpg
END:VEVENT
BEGIN:VEVENT
DTSTART;TZID=Europe/Vienna:20230825T150000
DTEND;TZID=Europe/Vienna:20230825T170000
DTSTAMP:20260426T023647
CREATED:20230701T041312Z
LAST-MODIFIED:20230701T041312Z
UID:30771-1692975600-1692982800@gallowsfellows.at
SUMMARY:Harley Davidson Open House
DESCRIPTION:Es ist wieder mal Zeit\, die Harley Fangemeinde zu beschallen. Wir wurden wieder eingeladen für die musikalische Umrahmung des Open House zu sorgen. Als passionierter Harley Fahrer ist mir das natürlich Ehre und Vergnügen. Und eins wird ganz sicher mehrmals zu hören sein: Unser Hit „Harley Riding!
URL:https://gallowsfellows.at/event/harley-davidson-open-house/
LOCATION:Harley Davidson St. Pölten\, Wiener Straße 211\, St. Pölten\, 3100\, Österreich
ATTACH;FMTTYPE=image/jpeg:https://gallowsfellows.at/wp-content/uploads/2011/02/P1110780.jpg
END:VEVENT
END:VCALENDAR